BEGIN:VCALENDAR
VERSION:2.0
PRODID:-//wp-events-plugin.com//7.1.2//EN
BEGIN:VEVENT
UID:56@sld.in.rs
DTSTART;TZID=Europe/Belgrade:20230324T090000
DTEND;TZID=Europe/Belgrade:20230324T090000
DTSTAMP:20230303T083028Z
URL:https://sld.in.rs/dogadjaji/%d0%b0%d0%ba%d0%b0%d0%b4%d0%b5%d0%bc%d0%b8
 %d1%98%d0%b0-%d0%bc%d0%b5%d0%b4%d0%b8%d1%86%d0%b8%d0%bd%d1%81%d0%ba%d0%b8%
 d1%85-%d0%bd%d0%b0%d1%83%d0%ba%d0%b0/
SUMMARY:Академија медицинских наука
DESCRIPTION:\n 	Форум Академије медицинских нау
 ка Српског лекарског друштва.\n\n''Превенц
 ија\, дијагностика\, лечење и контрола ма
 сивних заразних и незаразних болести''\n\n
 Акредитовано: А-1-552/23\, са 4 бода слушаоце\,
  за  лекаре\, стоматологе\, фармецеуте и б
 иохемичаре.
ATTACH;FMTTYPE=image/jpeg:https://sld.in.rs/wp-content/uploads/2022/12/ima
 ges.png
CATEGORIES:Симпозијум
LOCATION:Српско лекарско друштво\, Краљице На
 талије 3\, Београд\, 11000\, Serbia
X-APPLE-STRUCTURED-LOCATION;VALUE=URI;X-ADDRESS=Краљице Натали
 је 3\, Београд\, 11000\, Serbia;X-APPLE-RADIUS=100;X-TITLE=Срп
 ско лекарско друштво:geo:0,0
END:VEVENT
BEGIN:VTIMEZONE
TZID:Europe/Belgrade
X-LIC-LOCATION:Europe/Belgrade
BEGIN:STANDARD
DTSTART:20221030T020000
TZOFFSETFROM:+0200
TZOFFSETTO:+0100
TZNAME:CET
END:STANDARD
END:VTIMEZONE
END:VCALENDAR