BEGIN:VCALENDAR
VERSION:2.0
PRODID:-//wp-events-plugin.com//7.1.2//EN
BEGIN:VEVENT
UID:159@sld.in.rs
DTSTART;TZID=Europe/Belgrade:20231103T093000
DTEND;TZID=Europe/Belgrade:20231103T093000
DTSTAMP:20231017T144937Z
URL:https://sld.in.rs/dogadjaji/akademija-medicinskih-nauka-15/
SUMMARY:Академија медицинских наука
DESCRIPTION:Дан Једног здравља 2023 - One Health Day 2023\n
 \nУчешће на Симпозијуму за све чланове СЛ
 Д (и ДЛВ) је 2000 динара\, а за оне\nкоји нису 
 чланови 2500 динара + 4000 за израду сертифик
 ата.\n\nАкредитација: А - 1- 1741/23 са 6 бодова 
 за слушаоце\, за лекаре\, за стоматологе\, 
 за фармацеуте\, за биохемичаре\, за биоло
 ге и за ветеринаре.
CATEGORIES:Симпозијум
LOCATION:Српско лекарско друштво\, Краљице На
 талије 3\, Београд\, 11000\, Serbia
X-APPLE-STRUCTURED-LOCATION;VALUE=URI;X-ADDRESS=Краљице Натали
 је 3\, Београд\, 11000\, Serbia;X-APPLE-RADIUS=100;X-TITLE=Срп
 ско лекарско друштво:geo:0,0
END:VEVENT
BEGIN:VTIMEZONE
TZID:Europe/Belgrade
X-LIC-LOCATION:Europe/Belgrade
BEGIN:STANDARD
DTSTART:20231029T020000
TZOFFSETFROM:+0200
TZOFFSETTO:+0100
TZNAME:CET
END:STANDARD
END:VTIMEZONE
END:VCALENDAR