BEGIN:VCALENDAR
VERSION:2.0
PRODID:-//wp-events-plugin.com//7.1.2//EN
BEGIN:VEVENT
UID:164@sld.in.rs
DTSTART;TZID=Europe/Belgrade:20231120T170000
DTEND;TZID=Europe/Belgrade:20231120T170000
DTSTAMP:20231031T203122Z
URL:https://sld.in.rs/dogadjaji/akademija-medicinskih-nauka-17/
SUMMARY:Академија медицинских наука
DESCRIPTION:УРГЕНТНА И РАТНА ХИРУРГИЈА –\nЗБРИ
 ЊАВАЊЕ ПОВРЕДА АБДОМЕНА У ЕРИ ДОКТРИНЕ\n
 „DAMAGE CONTROL SURGERY“\n\nАкредитовано : A-1-1752/23 с
 а два бода за слушаоце\, за лекаре\, биохе
 мичаре\, фармацеуте\, стоматологе\, медиц
 инске сестре и здравствене техничаре.\n\n
 Скуп је бесплатан за чланове друштва\, за
  остале је 4000 динара за израду сертифика
 та.
CATEGORIES:Стручни састанак
LOCATION:Српско лекарско друштво\, Краљице На
 талије 3\, Београд\, 11000\, Serbia
X-APPLE-STRUCTURED-LOCATION;VALUE=URI;X-ADDRESS=Краљице Натали
 је 3\, Београд\, 11000\, Serbia;X-APPLE-RADIUS=100;X-TITLE=Срп
 ско лекарско друштво:geo:0,0
END:VEVENT
BEGIN:VTIMEZONE
TZID:Europe/Belgrade
X-LIC-LOCATION:Europe/Belgrade
BEGIN:STANDARD
DTSTART:20231029T020000
TZOFFSETFROM:+0200
TZOFFSETTO:+0100
TZNAME:CET
END:STANDARD
END:VTIMEZONE
END:VCALENDAR