BEGIN:VCALENDAR
VERSION:2.0
PRODID:-//wp-events-plugin.com//7.1.2//EN
BEGIN:VEVENT
UID:103@sld.in.rs
DTSTART;TZID=Europe/Belgrade:20230522T173000
DTEND;TZID=Europe/Belgrade:20230522T173000
DTSTAMP:20230515T201852Z
URL:https://sld.in.rs/dogadjaji/akademija-medicinskih-nauka-online/
SUMMARY:Академија медицинских наука - ONLINE
DESCRIPTION:"КЛИМАТСКЕ ПРОМЕНЕ И МЕНТАЛНО ЗДРА
 ВЉЕ"\n\nСастанак ће се одржати у понедељак
  22.маја 2023. године online преко Zoom\nплатформе
 . Линк за регистрацију:\nhttps://us02web.zoom.us/meeting
 /register/tZAvfuihqTwsGdO4jaz3BQ7MFT2uPfGD1rZm\n\nСви регистро
 вани учесници ће након регистрације доб
 ити потврдни имејл са\nинформацијама о у
 кључењу на састанак.\n\nАкредитовано: А-1-57
 1/23\, са 2 бода за слушаоце\, за лекаре\,\nсто
 матологе\, фармацеуте\, биохемичаре\, мед
 ицинске сестре и здравствене техничаре.\
 n\nСертификати су бесплатни за чланове\, з
 а оне који нису чланови друштва 4000 динар
 а за израду сертификата.
CATEGORIES:Стручни састанак
END:VEVENT
BEGIN:VTIMEZONE
TZID:Europe/Belgrade
X-LIC-LOCATION:Europe/Belgrade
BEGIN:DAYLIGHT
DTSTART:20230326T030000
TZOFFSETFROM:+0100
TZOFFSETTO:+0200
TZNAME:CEST
END:DAYLIGHT
END:VTIMEZONE
END:VCALENDAR