BEGIN:VCALENDAR
VERSION:2.0
PRODID:-//wp-events-plugin.com//7.1.2//EN
BEGIN:VEVENT
UID:23@sld.in.rs
DTSTART;TZID=Europe/Belgrade:20221130T130000
DTEND;TZID=Europe/Belgrade:20221203T130000
DTSTAMP:20221128T123851Z
URL:https://sld.in.rs/dogadjaji/endokrinoloska-sekcija/
SUMMARY:Ендокринолошка секција
DESCRIPTION:"8. конгрес ендокринолога Србије"\n\n
 Акредитовано : А-1-1979/22 са 10 бодова за слуш
 аоце\, за постер презентације 11\, усмено п
 редавање 13\, за лекаре\n\nКотизација 12.000 д
 инара\n\nВише информације https://smarttravelpco4.rs/
CATEGORIES:Ендокринолошка секција,Конгрес
LOCATION:Crowne Plaza\, Владимириа Поповића 10\, Нови
  Београд\, 11070\, Serbia
X-APPLE-STRUCTURED-LOCATION;VALUE=URI;X-ADDRESS=Владимириа Поп
 овића 10\, Нови Београд\, 11070\, Serbia;X-APPLE-RADIUS=10
 0;X-TITLE=Crowne Plaza:geo:0,0
END:VEVENT
BEGIN:VTIMEZONE
TZID:Europe/Belgrade
X-LIC-LOCATION:Europe/Belgrade
BEGIN:STANDARD
DTSTART:20221030T020000
TZOFFSETFROM:+0200
TZOFFSETTO:+0100
TZNAME:CET
END:STANDARD
END:VTIMEZONE
END:VCALENDAR