BEGIN:VCALENDAR
VERSION:2.0
PRODID:-//wp-events-plugin.com//7.1.2//EN
BEGIN:VEVENT
UID:102@sld.in.rs
DTSTART;TZID=Europe/Belgrade:20230530T120000
DTEND;TZID=Europe/Belgrade:20230530T120000
DTSTAMP:20230530T090929Z
URL:https://sld.in.rs/dogadjaji/epidemioloska-sekcija-dva-strucna-sastanka
 /
SUMMARY:Епидемиолошка секција (два стручна с
 астанка)
DESCRIPTION:Акредитовано А-1-578/23 са 2 бода за сл
 ушаоце\, за лекаре.\n\nАкредитовано А-1-580/23 
 са 2 бода за слушаоце\, за лекаре.\n\nСертиф
 икати су бесплатни за чланове\, за оне ко
 ји нису чланови друштва 4000 динара за изр
 аду сертификата.
CATEGORIES:Епидемиолошка секција,Стручни
 састанак
LOCATION:Завод за здравствену заштиту студен
 ата Београд\, стационар\, III спрат\, сала з
 а састанке\, Проте Матеје 29\, Београд\, Срб
 ија\, Serbia
X-APPLE-STRUCTURED-LOCATION;VALUE=URI;X-ADDRESS=Проте Матеје 29\
 , Београд\, Србија\, Serbia;X-APPLE-RADIUS=100;X-TITLE=Зав
 од за здравствену заштиту студената Бео
 град\, стационар\, III спрат\, сала за саста
 нке:geo:0,0
END:VEVENT
BEGIN:VTIMEZONE
TZID:Europe/Belgrade
X-LIC-LOCATION:Europe/Belgrade
BEGIN:DAYLIGHT
DTSTART:20230326T030000
TZOFFSETFROM:+0100
TZOFFSETTO:+0200
TZNAME:CEST
END:DAYLIGHT
END:VTIMEZONE
END:VCALENDAR