BEGIN:VCALENDAR
VERSION:2.0
PRODID:-//wp-events-plugin.com//7.1.2//EN
BEGIN:VEVENT
UID:45@sld.in.rs
DTSTART;TZID=Europe/Belgrade:20230228T120000
DTEND;TZID=Europe/Belgrade:20230228T120000
DTSTAMP:20230207T100317Z
URL:https://sld.in.rs/dogadjaji/epidemioloska-sekcija-u-postupku-akreditac
 ije/
SUMMARY:Епидемиолошка секција
DESCRIPTION:Дневни ред:\n1. Тема предавања: „Лег
 ионарска болест повезана са путовањима 
 – искуства и\nодговор јавног здравља у Ц
 рној Гори“\nПредавач: Прим. др сц. мед. Са
 ња Меденица\, Институт за јавно здравље Ц
 рне Горе\n\nСастанак Председништва сециј
 е почиње у 11 часова.
CATEGORIES:Стручни састанак
LOCATION:Српско лекрско друштво\, Џорџа Вашин
 гтона 19\, Београд\, Београд\, Србија\, Serbia
X-APPLE-STRUCTURED-LOCATION;VALUE=URI;X-ADDRESS=Џорџа Вашингто
 на 19\, Београд\, Београд\, Србија\, Serbia;X-APPLE-
 RADIUS=100;X-TITLE=Српско лекрско друштво:geo:0,0
END:VEVENT
BEGIN:VTIMEZONE
TZID:Europe/Belgrade
X-LIC-LOCATION:Europe/Belgrade
BEGIN:STANDARD
DTSTART:20221030T020000
TZOFFSETFROM:+0200
TZOFFSETTO:+0100
TZNAME:CET
END:STANDARD
END:VTIMEZONE
END:VCALENDAR