BEGIN:VCALENDAR
VERSION:2.0
PRODID:-//wp-events-plugin.com//7.1.2//EN
BEGIN:VEVENT
UID:124@sld.in.rs
DTSTART;TZID=Europe/Belgrade:20230630T000000
DTEND;TZID=Europe/Belgrade:20230702T000000
DTSTAMP:20230619T095116Z
URL:https://sld.in.rs/dogadjaji/ginekolosko-akuserska-sekcija-3/
SUMMARY:Гинеколошко-акушерска секција
DESCRIPTION:Школа перинаталне медицине\n\n„Прв
 и триместар трудноће“\n\nАкредитовано:-А-
 1-1113/23\, са 4 бода за слушаоце\, за лекаре.\n\n
 http://sld.in.rs/sekcije/ginekolosko-akuserska-sekcija/
CATEGORIES:Гинеколошкоакушерска
 секција,Симпозијум
LOCATION:Hotel "Парк"\, Венијамина Маринковића 10\
 , Ивањица\, Србија\, Serbia
X-APPLE-STRUCTURED-LOCATION;VALUE=URI;X-ADDRESS=Венијамина Мар
 инковића 10\, Ивањица\, Србија\, Serbia;X-APPLE-RADIU
 S=100;X-TITLE=Hotel \"Парк\":geo:0,0
END:VEVENT
BEGIN:VTIMEZONE
TZID:Europe/Belgrade
X-LIC-LOCATION:Europe/Belgrade
BEGIN:DAYLIGHT
DTSTART:20230326T030000
TZOFFSETFROM:+0100
TZOFFSETTO:+0200
TZNAME:CEST
END:DAYLIGHT
END:VTIMEZONE
END:VCALENDAR