BEGIN:VCALENDAR
VERSION:2.0
PRODID:-//wp-events-plugin.com//7.1.2//EN
BEGIN:VEVENT
UID:21@sld.in.rs
DTSTART;TZID=Europe/Belgrade:20221201T130000
DTEND;TZID=Europe/Belgrade:20221201T130000
DTSTAMP:20221128T094945Z
URL:https://sld.in.rs/dogadjaji/ginekoloskoakuserska-sekcija/
SUMMARY:Гинеколошкоакушерска секција
DESCRIPTION:Акредитовано:А-1-1984/22 са 2 бода за сл
 ушаоце\, за лекаре.\n\nПредседништво са по
 четком 12 часова.\n\nСастанак ће се одржати
  у Српском лекарском друштву\, у Џорџа Ва
 шингтона 19\, Београд и\n\nза online слушаоце: 
 www.playout.click/gas-sld
CATEGORIES:Гинеколошкоакушерска
 секција,Стручни састанак
LOCATION:Српско лекрско друштво\, Џорџа Вашин
 гтона 19\, Београд\, Београд\, Србија\, Serbia
X-APPLE-STRUCTURED-LOCATION;VALUE=URI;X-ADDRESS=Џорџа Вашингто
 на 19\, Београд\, Београд\, Србија\, Serbia;X-APPLE-
 RADIUS=100;X-TITLE=Српско лекрско друштво:geo:0,0
END:VEVENT
BEGIN:VTIMEZONE
TZID:Europe/Belgrade
X-LIC-LOCATION:Europe/Belgrade
BEGIN:STANDARD
DTSTART:20221030T020000
TZOFFSETFROM:+0200
TZOFFSETTO:+0100
TZNAME:CET
END:STANDARD
END:VTIMEZONE
END:VCALENDAR