BEGIN:VCALENDAR
VERSION:2.0
PRODID:-//wp-events-plugin.com//7.1.2//EN
BEGIN:VEVENT
UID:145@sld.in.rs
DTSTART;TZID=Europe/Belgrade:20231012T084500
DTEND;TZID=Europe/Belgrade:20231012T084500
DTSTAMP:20230922T073148Z
URL:https://sld.in.rs/dogadjaji/hematoloska-sekcija/
SUMMARY:Хематолошка секција
DESCRIPTION:Савремени изазови у дијагностици 
 и терапији акутних леукемија одраслих\n\n
 Акредитовано А-1-1733/23\, са са 9 бодова за пр
 едааче\, 8 усмене презентације\, 6 постери 
 и 5 учесници за лекаре\, фармацеуте\, меди
 цинске сестре и техничаре.\n\nБесплатно з
 а чланове Друштва\, за учеснике који нису
  чланови 4.000динара за израду сертификата
 .\n\nЛинк за регистрацију учесника : https://edu
 medglobal.com//lhs2023/\n\n&nbsp\;
CATEGORIES:Симпозијум,Хематолошка секција
LOCATION:Хотел Crowne Plaza\, Владимира Поповића 10\,
  Београд\, Србија\, Serbia
X-APPLE-STRUCTURED-LOCATION;VALUE=URI;X-ADDRESS=Владимира Попо
 вића 10\, Београд\, Србија\, Serbia;X-APPLE-RADIUS=100;X-
 TITLE=Хотел Crowne Plaza:geo:0,0
END:VEVENT
BEGIN:VTIMEZONE
TZID:Europe/Belgrade
X-LIC-LOCATION:Europe/Belgrade
BEGIN:DAYLIGHT
DTSTART:20230326T030000
TZOFFSETFROM:+0100
TZOFFSETTO:+0200
TZNAME:CEST
END:DAYLIGHT
END:VTIMEZONE
END:VCALENDAR