BEGIN:VCALENDAR
VERSION:2.0
PRODID:-//wp-events-plugin.com//7.1.2//EN
BEGIN:VEVENT
UID:28@sld.in.rs
DTSTART;TZID=Europe/Belgrade:20221212T183000
DTEND;TZID=Europe/Belgrade:20221212T183000
DTSTAMP:20221208T001131Z
URL:https://sld.in.rs/dogadjaji/hor-srpskog-lekarskog-drustva/
SUMMARY:Хор Српског лекарског друштва
DESCRIPTION:Аудиција пријема нових чланова хо
 ра Српског лекарског друштва
ATTACH;FMTTYPE=image/jpeg:https://sld.in.rs/wp-content/uploads/2022/12/IMG
 -02d7a46ef7ddfb7bc89af4ffe38e4d69-V-1.jpg
CATEGORIES:Стручни скупови
LOCATION:Српско лекарско друштво\, Џорџа Ваши
 нгтона 19\, Београд\, 11000\, Serbia
X-APPLE-STRUCTURED-LOCATION;VALUE=URI;X-ADDRESS=Џорџа Вашингто
 на 19\, Београд\, 11000\, Serbia;X-APPLE-RADIUS=100;X-TITLE=Ср
 пско лекарско друштво:geo:0,0
END:VEVENT
BEGIN:VTIMEZONE
TZID:Europe/Belgrade
X-LIC-LOCATION:Europe/Belgrade
BEGIN:STANDARD
DTSTART:20221030T020000
TZOFFSETFROM:+0200
TZOFFSETTO:+0100
TZNAME:CET
END:STANDARD
END:VTIMEZONE
END:VCALENDAR