BEGIN:VCALENDAR
VERSION:2.0
PRODID:-//wp-events-plugin.com//7.1.2//EN
BEGIN:VEVENT
UID:68@sld.in.rs
DTSTART;TZID=Europe/Belgrade:20230328T140000
DTEND;TZID=Europe/Belgrade:20230328T140000
DTSTAMP:20230320T090636Z
URL:https://sld.in.rs/dogadjaji/kardioloska-sekcija-3/
SUMMARY:Кардиолошка секција
DESCRIPTION:
CATEGORIES:Кардиолошка секција
LOCATION:Институт за рехабилитацију\, Сокоба
 њска 17\, Београд\, Србија\, Serbia
X-APPLE-STRUCTURED-LOCATION;VALUE=URI;X-ADDRESS=Сокобањска 17\, 
 Београд\, Србија\, Serbia;X-APPLE-RADIUS=100;X-TITLE=Инст
 итут за рехабилитацију:geo:0,0
END:VEVENT
BEGIN:VTIMEZONE
TZID:Europe/Belgrade
X-LIC-LOCATION:Europe/Belgrade
BEGIN:DAYLIGHT
DTSTART:20230326T030000
TZOFFSETFROM:+0100
TZOFFSETTO:+0200
TZNAME:CEST
END:DAYLIGHT
END:VTIMEZONE
END:VCALENDAR