BEGIN:VCALENDAR
VERSION:2.0
PRODID:-//wp-events-plugin.com//7.1.2//EN
BEGIN:VEVENT
UID:168@sld.in.rs
DTSTART;TZID=Europe/Belgrade:20231124T120000
DTEND;TZID=Europe/Belgrade:20231124T120000
DTSTAMP:20231126T162736Z
URL:https://sld.in.rs/dogadjaji/nefroloska-sekcija-3/
SUMMARY:Нефролошка секција
DESCRIPTION:''60. година Клинике за нефрологију 
 Војномедицинске академије:\nправци разв
 оја''\n\nАкредитовано:А-1-2235/23\,   са 4 бода с
 лушаоци\, 5 постери\, 7 усмени и 8 предавачи
 \, за лекаре\, фармацеуте и биохемичаре\n\n
 Бесплатно за чланове Друштва\, за учесни
 ке који нису чланови 4.000 динара за израду
  сертификата.
CATEGORIES:Нефролошка секција,Симпозијум
LOCATION:Војномедицинска академија\, Црнотра
 вска 17\, Београд\, Србија\, Serbia
X-APPLE-STRUCTURED-LOCATION;VALUE=URI;X-ADDRESS=Црнотравска 17\,
  Београд\, Србија\, Serbia;X-APPLE-RADIUS=100;X-TITLE=Вој
 номедицинска академија:geo:0,0
END:VEVENT
BEGIN:VTIMEZONE
TZID:Europe/Belgrade
X-LIC-LOCATION:Europe/Belgrade
BEGIN:STANDARD
DTSTART:20231029T020000
TZOFFSETFROM:+0200
TZOFFSETTO:+0100
TZNAME:CET
END:STANDARD
END:VTIMEZONE
END:VCALENDAR