BEGIN:VCALENDAR
VERSION:2.0
PRODID:-//wp-events-plugin.com//7.1.2//EN
BEGIN:VEVENT
UID:156@sld.in.rs
DTSTART;TZID=Europe/Belgrade:20231025T093000
DTEND;TZID=Europe/Belgrade:20231026T093000
DTSTAMP:20231013T125739Z
URL:https://sld.in.rs/dogadjaji/podruznica-kragujevac/
SUMMARY:Подружница Крагујевац
DESCRIPTION:48. Октобарски  здравствени дани\n\n
 Акредитовано А-1-1743/23\, 10 бодова слушаоци\,
  за лекаре\,фармацеуте\, стоматологе\, био
 хемичаре\, мед.сестре и техничаре
CATEGORIES:Конгрес
LOCATION:Хотел "Крагујевац"\, Краља Петра I 18\, 
 Крагујевац\, Србија\, Serbia
X-APPLE-STRUCTURED-LOCATION;VALUE=URI;X-ADDRESS=Краља Петра I 18\
 , Крагујевац\, Србија\, Serbia;X-APPLE-RADIUS=100;X-TITLE=
 Хотел \"Крагујевац\":geo:0,0
END:VEVENT
BEGIN:VTIMEZONE
TZID:Europe/Belgrade
X-LIC-LOCATION:Europe/Belgrade
BEGIN:DAYLIGHT
DTSTART:20230326T030000
TZOFFSETFROM:+0100
TZOFFSETTO:+0200
TZNAME:CEST
END:DAYLIGHT
END:VTIMEZONE
END:VCALENDAR