BEGIN:VCALENDAR
VERSION:2.0
PRODID:-//wp-events-plugin.com//7.1.2//EN
BEGIN:VEVENT
UID:130@sld.in.rs
DTSTART;TZID=Europe/Belgrade:20231006T090000
DTEND;TZID=Europe/Belgrade:20231007T090000
DTSTAMP:20230913T113218Z
URL:https://sld.in.rs/dogadjaji/podruznica-uzice/
SUMMARY:Подружница Ужице
DESCRIPTION:''LIV  Ужички дани''\n\nАкредитовано: A
 -1-1744/23 са 8 бодова за предаваче и 4 за слуш
 аоце  и\nA-1-1745/23 са 9 бодова за предаваче и 
 5 за слушаоце.
CATEGORIES:Семинар
LOCATION:Народно позориште\, Краља Петра  I 12\, 
 Ужице\, Србија\, Serbia
X-APPLE-STRUCTURED-LOCATION;VALUE=URI;X-ADDRESS=Краља Петра  I 12
 \, Ужице\, Србија\, Serbia;X-APPLE-RADIUS=100;X-TITLE=Наро
 дно позориште:geo:0,0
END:VEVENT
BEGIN:VTIMEZONE
TZID:Europe/Belgrade
X-LIC-LOCATION:Europe/Belgrade
BEGIN:DAYLIGHT
DTSTART:20230326T030000
TZOFFSETFROM:+0100
TZOFFSETTO:+0200
TZNAME:CEST
END:DAYLIGHT
END:VTIMEZONE
END:VCALENDAR