BEGIN:VCALENDAR
VERSION:2.0
PRODID:-//wp-events-plugin.com//7.1.2//EN
BEGIN:VEVENT
UID:44@sld.in.rs
DTSTART;TZID=Europe/Belgrade:20230326T000000
DTEND;TZID=Europe/Belgrade:20230326T000000
DTSTAMP:20230202T120225Z
URL:https://sld.in.rs/dogadjaji/sekcija-opste-medicine-2/
SUMMARY:Секција опште медицине
DESCRIPTION:Дани опште медицине\n\n26.3.2023.\n\nМест
 о и улога скрининга у раду лекара опште м
 едицине\n\nкотизација 4.800 динара \,\n\nУ пос
 тупку акредитације\n\nЗА ВИШЕ ИНФОРМАЦИЈ
 А НА ТЕЛЕФОН  0693234451\n\nAкредитован :А-1-567/23 
 са 4 бода\, за слушаоце\, за лекаре
CATEGORIES:Секција за општу
 медицину,Симпозијум
LOCATION:Хотел "Мона Плаза"\, Солунска 21\, Беог
 рад\, Србија\, Serbia
X-APPLE-STRUCTURED-LOCATION;VALUE=URI;X-ADDRESS=Солунска 21\, Бе
 оград\, Србија\, Serbia;X-APPLE-RADIUS=100;X-TITLE=Хотел \
 "Мона Плаза\":geo:0,0
END:VEVENT
BEGIN:VTIMEZONE
TZID:Europe/Belgrade
X-LIC-LOCATION:Europe/Belgrade
BEGIN:STANDARD
DTSTART:20221030T020000
TZOFFSETFROM:+0200
TZOFFSETTO:+0100
TZNAME:CET
END:STANDARD
END:VTIMEZONE
END:VCALENDAR