BEGIN:VCALENDAR
VERSION:2.0
PRODID:-//wp-events-plugin.com//7.1.2//EN
BEGIN:VEVENT
UID:97@sld.in.rs
DTSTART;TZID=Europe/Belgrade:20230518T140000
DTEND;TZID=Europe/Belgrade:20230518T140000
DTSTAMP:20230503T100625Z
URL:https://sld.in.rs/dogadjaji/sekcija-opste-medicine-3/
SUMMARY:Секција опште медицине
DESCRIPTION:„Како унапредити комуникацију ти
 мова изабраних лекара и пацијената на п
 римеру оболелих од артритиса“\n\n&nbsp\;
ATTACH;FMTTYPE=image/jpeg:https://sld.in.rs/wp-content/uploads/2023/05/о
 шта-медицина.png
CATEGORIES:Курс
LOCATION:Српско лекарско друштво\, Џорџа Ваши
 нгтона 19\, Београд\, 11000\, Serbia
X-APPLE-STRUCTURED-LOCATION;VALUE=URI;X-ADDRESS=Џорџа Вашингто
 на 19\, Београд\, 11000\, Serbia;X-APPLE-RADIUS=100;X-TITLE=Ср
 пско лекарско друштво:geo:0,0
END:VEVENT
BEGIN:VTIMEZONE
TZID:Europe/Belgrade
X-LIC-LOCATION:Europe/Belgrade
BEGIN:DAYLIGHT
DTSTART:20230326T030000
TZOFFSETFROM:+0100
TZOFFSETTO:+0200
TZNAME:CEST
END:DAYLIGHT
END:VTIMEZONE
END:VCALENDAR