BEGIN:VCALENDAR
VERSION:2.0
PRODID:-//wp-events-plugin.com//7.1.2//EN
BEGIN:VEVENT
UID:51@sld.in.rs
DTSTART;TZID=Europe/Belgrade:20230426T090000
DTEND;TZID=Europe/Belgrade:20230426T090000
DTSTAMP:20230418T212956Z
URL:https://sld.in.rs/dogadjaji/sekcija-urgentne-medicine/
SUMMARY:Секција ургентне медицине
DESCRIPTION:"Распоред збрињавања више ургентн
 их стања код истих пациената "Шта је стар
 ије : кокошка или јаје? "\n\nКотизација 1000 д
 инара за чланове друштва\, а за нечланове
  1000 динара плус 4000 за израду сертификата\
 , уплата на\n\n205-8041-21 са позивом на број 985/3
 .\n\nОграничен број учесника до 100 места.\n\n
 Акредитован : А-1-556/23 са 4 бода слушаоци\, 
 за лекаре\, за медицинске сестре и технич
 аре\n\n&nbsp\;
CATEGORIES:Секција ургентне
 медицине,Симпозијум
LOCATION:Српско лекарско друштво\, Краљице На
 талије 3\, Београд\, 11000\, Serbia
X-APPLE-STRUCTURED-LOCATION;VALUE=URI;X-ADDRESS=Краљице Натали
 је 3\, Београд\, 11000\, Serbia;X-APPLE-RADIUS=100;X-TITLE=Срп
 ско лекарско друштво:geo:0,0
END:VEVENT
BEGIN:VTIMEZONE
TZID:Europe/Belgrade
X-LIC-LOCATION:Europe/Belgrade
BEGIN:DAYLIGHT
DTSTART:20230326T030000
TZOFFSETFROM:+0100
TZOFFSETTO:+0200
TZNAME:CEST
END:DAYLIGHT
END:VTIMEZONE
END:VCALENDAR