BEGIN:VCALENDAR
VERSION:2.0
PRODID:-//wp-events-plugin.com//7.1.2//EN
BEGIN:VEVENT
UID:100@sld.in.rs
DTSTART;TZID=Europe/Belgrade:20230601T170000
DTEND;TZID=Europe/Belgrade:20230601T170000
DTSTAMP:20230529T114124Z
URL:https://sld.in.rs/dogadjaji/sekcija-za-alargologiju-i-klinicku-imunolo
 giju-i-izborna-skupstina-sekcije/
SUMMARY:Секција за аларгологију и клиничку и
 мунологију и изборна Скупштина секције
DESCRIPTION:
CATEGORIES:Изборна Скупштина,Секција за
 алергологију и имунологију,Стручни
 састанак
LOCATION:Српско лекарско друштво\, Џорџа Ваши
 нгтона 19\, Београд\, 11000\, Serbia
X-APPLE-STRUCTURED-LOCATION;VALUE=URI;X-ADDRESS=Џорџа Вашингто
 на 19\, Београд\, 11000\, Serbia;X-APPLE-RADIUS=100;X-TITLE=Ср
 пско лекарско друштво:geo:0,0
END:VEVENT
BEGIN:VTIMEZONE
TZID:Europe/Belgrade
X-LIC-LOCATION:Europe/Belgrade
BEGIN:DAYLIGHT
DTSTART:20230326T030000
TZOFFSETFROM:+0100
TZOFFSETTO:+0200
TZNAME:CEST
END:DAYLIGHT
END:VTIMEZONE
END:VCALENDAR