BEGIN:VCALENDAR
VERSION:2.0
PRODID:-//wp-events-plugin.com//7.1.2//EN
BEGIN:VEVENT
UID:139@sld.in.rs
DTSTART;TZID=Europe/Belgrade:20231208T130000
DTEND;TZID=Europe/Belgrade:20231208T130000
DTSTAMP:20231122T154037Z
URL:https://sld.in.rs/dogadjaji/sekcija-za-bolesti-zavisnosti/
SUMMARY:Секција за болести зависности
DESCRIPTION:Патолошко коцкање у Србији - епиде
 мија новог доба\n\nАкредитовано: А - 1 - 2217/23
  са 6 бодова за учеснике\, за лекаре и за м
 едицинске сестре и техничаре.\n\nБесплатн
 о за чланове Друштва\, за учеснике који н
 ису чланови 4.000 динара за израду сертифи
 ката.
CATEGORIES:Болест зависности,Семинар
LOCATION:Српско лекарско друштво\, Џорџа Ваши
 нгтона 19\, Београд\, 11000\, Serbia
X-APPLE-STRUCTURED-LOCATION;VALUE=URI;X-ADDRESS=Џорџа Вашингто
 на 19\, Београд\, 11000\, Serbia;X-APPLE-RADIUS=100;X-TITLE=Ср
 пско лекарско друштво:geo:0,0
END:VEVENT
BEGIN:VTIMEZONE
TZID:Europe/Belgrade
X-LIC-LOCATION:Europe/Belgrade
BEGIN:STANDARD
DTSTART:20231029T020000
TZOFFSETFROM:+0200
TZOFFSETTO:+0100
TZNAME:CET
END:STANDARD
END:VTIMEZONE
END:VCALENDAR