BEGIN:VCALENDAR
VERSION:2.0
PRODID:-//wp-events-plugin.com//7.1.2//EN
BEGIN:VEVENT
UID:155@sld.in.rs
DTSTART;TZID=Europe/Belgrade:20231026T103000
DTEND;TZID=Europe/Belgrade:20231026T103000
DTSTAMP:20231013T124945Z
URL:https://sld.in.rs/dogadjaji/sekcija-za-fizikalnu-medicnu-i-rehabilitac
 iju/
SUMMARY:Секција за физикалну медицну и рехаб
 илитацију
DESCRIPTION:Оптимизовање третмана хроничних б
 олних стања - како одредити узрок и адекв
 атну терапијску стратегију\n\nАкредитова
 но: А-1-1738/23 са 4 бода слушаоци\, 5 постери\, 7
  усмене презентације и 8 предаачи\, за лек
 аре\, фармацеуте и физиотерапеуте\n\nБесп
 латноза чланове СЛД\, остали 4000 динара\n\n&
 nbsp\;
CATEGORIES:Секција за физикалну медицину и
 рехабилитацију,Симпозијум
LOCATION:Српско лекарско друштво\, Краљице На
 талије 3\, Београд\, 11000\, Serbia
X-APPLE-STRUCTURED-LOCATION;VALUE=URI;X-ADDRESS=Краљице Натали
 је 3\, Београд\, 11000\, Serbia;X-APPLE-RADIUS=100;X-TITLE=Срп
 ско лекарско друштво:geo:0,0
END:VEVENT
BEGIN:VTIMEZONE
TZID:Europe/Belgrade
X-LIC-LOCATION:Europe/Belgrade
BEGIN:DAYLIGHT
DTSTART:20230326T030000
TZOFFSETFROM:+0100
TZOFFSETTO:+0200
TZNAME:CEST
END:DAYLIGHT
END:VTIMEZONE
END:VCALENDAR