BEGIN:VCALENDAR
VERSION:2.0
PRODID:-//wp-events-plugin.com//7.1.2//EN
BEGIN:VEVENT
UID:40@sld.in.rs
DTSTART;TZID=Europe/Belgrade:20230221T190000
DTEND;TZID=Europe/Belgrade:20230221T190000
DTSTAMP:20230124T101730Z
URL:https://sld.in.rs/dogadjaji/sekcija-za-homeopatiju-2/
SUMMARY:Секција за хомеопатију
DESCRIPTION:Ванредни састанак секције:\nПредав
 ање: Утицај личног развоја терапеута и п
 ацијента на исход лечења\nПредавач: др Ла
 зар Трифуновић
CATEGORIES:Секција за хомеопатију,Стручни
 састанак
LOCATION:Српско лекрско друштво\, Џорџа Вашин
 гтона 19\, Београд\, Београд\, Србија\, Serbia
X-APPLE-STRUCTURED-LOCATION;VALUE=URI;X-ADDRESS=Џорџа Вашингто
 на 19\, Београд\, Београд\, Србија\, Serbia;X-APPLE-
 RADIUS=100;X-TITLE=Српско лекрско друштво:geo:0,0
END:VEVENT
BEGIN:VTIMEZONE
TZID:Europe/Belgrade
X-LIC-LOCATION:Europe/Belgrade
BEGIN:STANDARD
DTSTART:20221030T020000
TZOFFSETFROM:+0200
TZOFFSETTO:+0100
TZNAME:CET
END:STANDARD
END:VTIMEZONE
END:VCALENDAR