BEGIN:VCALENDAR
VERSION:2.0
PRODID:-//wp-events-plugin.com//7.1.2//EN
BEGIN:VEVENT
UID:105@sld.in.rs
DTSTART;TZID=Europe/Belgrade:20230525T180000
DTEND;TZID=Europe/Belgrade:20230525T180000
DTSTAMP:20230522T074435Z
URL:https://sld.in.rs/dogadjaji/sekcija-za-istoriju-medicine-4/
SUMMARY:Секција за историју медицине
DESCRIPTION:184. састанак Секције за историју ме
 дицине СЛД\n\nАкредитација: А-1-1130/23\, са 2 б
 ода за слушаоце\, за лекаре\, за фармацеут
 е\, за стоматологе и за биохемичаре.
CATEGORIES:Стручни састанак
LOCATION:Српско лекарско друштво\, Џорџа Ваши
 нгтона 19\, Београд\, 11000\, Serbia
X-APPLE-STRUCTURED-LOCATION;VALUE=URI;X-ADDRESS=Џорџа Вашингто
 на 19\, Београд\, 11000\, Serbia;X-APPLE-RADIUS=100;X-TITLE=Ср
 пско лекарско друштво:geo:0,0
END:VEVENT
BEGIN:VTIMEZONE
TZID:Europe/Belgrade
X-LIC-LOCATION:Europe/Belgrade
BEGIN:DAYLIGHT
DTSTART:20230326T030000
TZOFFSETFROM:+0100
TZOFFSETTO:+0200
TZNAME:CEST
END:DAYLIGHT
END:VTIMEZONE
END:VCALENDAR