BEGIN:VCALENDAR
VERSION:2.0
PRODID:-//wp-events-plugin.com//7.1.2//EN
BEGIN:VEVENT
UID:31@sld.in.rs
DTSTART;TZID=Europe/Belgrade:20221216T110000
DTEND;TZID=Europe/Belgrade:20221216T110000
DTSTAMP:20221209T225428Z
URL:https://sld.in.rs/dogadjaji/sekcija-za-medicinu-rada/
SUMMARY:Секција за медицину рада
DESCRIPTION:„НАЈЧЕШЋЕ КОМПЛИКАЦИЈЕ ПОСТ КОВИ
 Д СИНДРОМА“\n\nАкредитовано: А-1-1993/22 са 6 б
 одова за слушаоце\, за лекаре\n\nБесплатно
  за чланове друштва
CATEGORIES:Секција за медицину рада,Семинар
LOCATION:Hotel M\, Булевар Ослобођења 56а\, Београ
 д\, Србија\, Serbia
X-APPLE-STRUCTURED-LOCATION;VALUE=URI;X-ADDRESS=Булевар Ослобо
 ђења 56а\, Београд\, Србија\, Serbia;X-APPLE-RADIUS=100;
 X-TITLE=Hotel M:geo:0,0
END:VEVENT
BEGIN:VTIMEZONE
TZID:Europe/Belgrade
X-LIC-LOCATION:Europe/Belgrade
BEGIN:STANDARD
DTSTART:20221030T020000
TZOFFSETFROM:+0200
TZOFFSETTO:+0100
TZNAME:CET
END:STANDARD
END:VTIMEZONE
END:VCALENDAR