BEGIN:VCALENDAR
VERSION:2.0
PRODID:-//wp-events-plugin.com//7.1.2//EN
BEGIN:VEVENT
UID:41@sld.in.rs
DTSTART;TZID=Europe/Belgrade;VALUE=DATE:20230511
DTEND;TZID=Europe/Belgrade;VALUE=DATE:20230513
DTSTAMP:20230418T213110Z
URL:https://sld.in.rs/dogadjaji/sekcija-za-nuklearnu-medicinu/
SUMMARY:Секција за нуклеарну медицину
DESCRIPTION:Међународни симпозијум нуклеарне 
 ендокринологије и болести метаболизма\nI
 nternational Symposium on Nuclear Endocrinology and Metabolic Diseases\nв
 ише информација:\nwww.sciencenm.com/en/scientific-program/\n
 информације о котизацији на истим сајту\
 nАкредитован : А-1-564/23 са 5 бода слушаоци\, 
 за лекаре\, за биохемичаре\, за медицинск
 е сестре и техницаре
ATTACH;FMTTYPE=image/jpeg:https://sld.in.rs/wp-content/uploads/2023/02/unn
 amed.jpg
CATEGORIES:Конгрес,Секција за нуклеарну
 медицину
LOCATION:Хотел Golden Tulip Зира\, Рузвелтова 35\, Бе
 оград\, Србија\, Serbia
X-APPLE-STRUCTURED-LOCATION;VALUE=URI;X-ADDRESS=Рузвелтова 35\, 
 Београд\, Србија\, Serbia;X-APPLE-RADIUS=100;X-TITLE=Хоте
 л Golden Tulip Зира:geo:0,0
END:VEVENT
BEGIN:VTIMEZONE
TZID:Europe/Belgrade
X-LIC-LOCATION:Europe/Belgrade
BEGIN:DAYLIGHT
DTSTART:20230326T030000
TZOFFSETFROM:+0100
TZOFFSETTO:+0200
TZNAME:CEST
END:DAYLIGHT
END:VTIMEZONE
END:VCALENDAR