BEGIN:VCALENDAR
VERSION:2.0
PRODID:-//wp-events-plugin.com//7.1.2//EN
BEGIN:VEVENT
UID:107@sld.in.rs
DTSTART;TZID=Europe/Belgrade:20230602T090000
DTEND;TZID=Europe/Belgrade:20230602T090000
DTSTAMP:20230529T113851Z
URL:https://sld.in.rs/dogadjaji/sekcija-za-patologiju/
SUMMARY:Секција за патологију
DESCRIPTION:Акредитован: А-1-1117/23\, са 4 бода за с
 лушаоце\, за лекаре\n\nБесплатно за чланов
 е друштва\, а за оне који нису чланови дру
 штва 4000 за израду сертификата.
CATEGORIES:Секција за патологију,Симпозијум
END:VEVENT
BEGIN:VTIMEZONE
TZID:Europe/Belgrade
X-LIC-LOCATION:Europe/Belgrade
BEGIN:DAYLIGHT
DTSTART:20230326T030000
TZOFFSETFROM:+0100
TZOFFSETTO:+0200
TZNAME:CEST
END:DAYLIGHT
END:VTIMEZONE
END:VCALENDAR