BEGIN:VCALENDAR
VERSION:2.0
PRODID:-//wp-events-plugin.com//7.1.2//EN
BEGIN:VEVENT
UID:160@sld.in.rs
DTSTART;TZID=Europe/Belgrade:20231102T133000
DTEND;TZID=Europe/Belgrade:20231102T133000
DTSTAMP:20231102T111536Z
URL:https://sld.in.rs/dogadjaji/sekcija-za-perinatalnu-medicinu/
SUMMARY:Секција за перинаталну медицину
DESCRIPTION:Састанак младих перинатолога
CATEGORIES:Секција за перинаталну
 медицину,Семинар
LOCATION:Српско лекарско друштво\, Џорџа Ваши
 нгтона 19\, Београд\, 11000\, Serbia
X-APPLE-STRUCTURED-LOCATION;VALUE=URI;X-ADDRESS=Џорџа Вашингто
 на 19\, Београд\, 11000\, Serbia;X-APPLE-RADIUS=100;X-TITLE=Ср
 пско лекарско друштво:geo:0,0
END:VEVENT
BEGIN:VTIMEZONE
TZID:Europe/Belgrade
X-LIC-LOCATION:Europe/Belgrade
BEGIN:STANDARD
DTSTART:20231029T020000
TZOFFSETFROM:+0200
TZOFFSETTO:+0100
TZNAME:CET
END:STANDARD
END:VTIMEZONE
END:VCALENDAR