BEGIN:VCALENDAR
VERSION:2.0
PRODID:-//wp-events-plugin.com//7.1.2//EN
BEGIN:VEVENT
UID:66@sld.in.rs
DTSTART;TZID=Europe/Belgrade:20230331T110000
DTEND;TZID=Europe/Belgrade:20230331T110000
DTSTAMP:20230507T200709Z
URL:https://sld.in.rs/dogadjaji/sekcija-za-socijalnu-medicinu/
SUMMARY:Секција за социјалну медицину
DESCRIPTION:"Мобилност и миграције здравствен
 их кадрова"\n\nАкредитовано: А-1-617/23\,са 6 бо
 дова за слусаоце\, за лекаре.
CATEGORIES:Семинар,Социјална медицина
LOCATION:Српско лекарско друштво\, Џорџа Ваши
 нгтона 19\, Београд\, 11000\, Serbia
X-APPLE-STRUCTURED-LOCATION;VALUE=URI;X-ADDRESS=Џорџа Вашингто
 на 19\, Београд\, 11000\, Serbia;X-APPLE-RADIUS=100;X-TITLE=Ср
 пско лекарско друштво:geo:0,0
END:VEVENT
BEGIN:VTIMEZONE
TZID:Europe/Belgrade
X-LIC-LOCATION:Europe/Belgrade
BEGIN:DAYLIGHT
DTSTART:20230326T030000
TZOFFSETFROM:+0100
TZOFFSETTO:+0200
TZNAME:CEST
END:DAYLIGHT
END:VTIMEZONE
END:VCALENDAR