BEGIN:VCALENDAR
VERSION:2.0
PRODID:-//wp-events-plugin.com//7.1.2//EN
BEGIN:VEVENT
UID:129@sld.in.rs
DTSTART;TZID=Europe/Belgrade:20231008T000000
DTEND;TZID=Europe/Belgrade:20231011T000000
DTSTAMP:20230922T085235Z
URL:https://sld.in.rs/dogadjaji/sekcija-za-urgentnu-medicinu/
SUMMARY:Секција за ургентну медицину
DESCRIPTION:XV симпозијум ургентен медицине са 
 међународним учешћем\n\nДИСПНЕЈА-диферен
 цијално дијагностички изазов\n\nАкредито
 вано: А-1-1735/23 са 5 бодова за слушаоце\, 6 по
 стери\, 8 усмени и 9 предавачи\, за лекаре и
  медицинске сестре и техничаре.\n\nВИСИНА 
 КОТИЗАЦИЈА СЕ НАЛАЗИ У ДРУГОМ ОБАВЕШТЕЊ
 У\n\n&nbsp\;
CATEGORIES:Секција ургентне
 медицине,Симпозијум
LOCATION:Хотел Палисад\, Панта Мијаиловића 1\, 
 Златибор\, Србија\, Serbia
X-APPLE-STRUCTURED-LOCATION;VALUE=URI;X-ADDRESS=Панта Мијаилов
 ића 1\, Златибор\, Србија\, Serbia;X-APPLE-RADIUS=100;X-T
 ITLE=Хотел Палисад:geo:0,0
END:VEVENT
BEGIN:VTIMEZONE
TZID:Europe/Belgrade
X-LIC-LOCATION:Europe/Belgrade
BEGIN:DAYLIGHT
DTSTART:20230326T030000
TZOFFSETFROM:+0100
TZOFFSETTO:+0200
TZNAME:CEST
END:DAYLIGHT
END:VTIMEZONE
END:VCALENDAR