BEGIN:VCALENDAR
VERSION:2.0
PRODID:-//wp-events-plugin.com//7.1.2//EN
BEGIN:VEVENT
UID:114@sld.in.rs
DTSTART;TZID=Europe/Belgrade:20231019T000000
DTEND;TZID=Europe/Belgrade:20231021T000000
DTSTAMP:20231016T135735Z
URL:https://sld.in.rs/dogadjaji/uroloska-sekcija-nacionalni-kongres/
SUMMARY:Уролошка секција Национални конгрес
DESCRIPTION:Национални конгрес Уролошке секци
 је Српског лекарског друштва и Конгрес Б
 алканске уролошке асоцијације\n\nАкредит
 овано: A--1-1739/23 са 13 бодова за предаваче и 8
  бодова за слушаоце.\n\nКотизација за лек
 аре\, чланове СЛД 15000 динара .\n\nКотизациј
 а за лекаре који нису чланови СЛД: 15000 дин
 ара+4000 динара за израду сертификата.\n\n&nbs
 p\;\n\n&nbsp\;
CATEGORIES:Конгрес,Уролошка секција
LOCATION:Хотел Hilton\, Краља Милана 35\, Београд\, 
 Србија\, Serbia
X-APPLE-STRUCTURED-LOCATION;VALUE=URI;X-ADDRESS=Краља Милана 35\
 , Београд\, Србија\, Serbia;X-APPLE-RADIUS=100;X-TITLE=Хот
 ел Hilton:geo:0,0
END:VEVENT
BEGIN:VTIMEZONE
TZID:Europe/Belgrade
X-LIC-LOCATION:Europe/Belgrade
BEGIN:DAYLIGHT
DTSTART:20230326T030000
TZOFFSETFROM:+0100
TZOFFSETTO:+0200
TZNAME:CEST
END:DAYLIGHT
END:VTIMEZONE
END:VCALENDAR